BEGIN:VCALENDAR
VERSION:2.0
PRODID:UMC.EDU
CALSCALE:GREGORIAN
METHOD:PUBLISH
BEGIN:VTIMEZONE
TZID:US/CENTRAL
BEGIN:STANDARD
TZOFFSETFROM:-0500
TZOFFSETTO:-0600
END:STANDARD
END:VTIMEZONE
BEGIN:VEVENT
DTSTART:20260504T000000
DTEND:20260504T000000
SUMMARY:SHRP Final Grades Due in Workday by 5 p.m. (Except DPT and OTD)
LOCATION:
DESCRIPTION:School of Health Related Professions final grades (except for DPT and OTD) are due in Workday by 5 p.m. on Monday, May 4.
PRIORITY:3
END:VEVENT
END:VCALENDAR
