BEGIN:VCALENDAR
VERSION:2.0
PRODID:UMC.EDU
CALSCALE:GREGORIAN
METHOD:PUBLISH
BEGIN:VTIMEZONE
TZID:US/CENTRAL
BEGIN:STANDARD
TZOFFSETFROM:-0500
TZOFFSETTO:-0600
END:STANDARD
END:VTIMEZONE
BEGIN:VEVENT
DTSTART:20260518T163000
DTEND:20260518T173000
SUMMARY:Ophthalmology Journal Club
LOCATION:LP-104 and Webex
DESCRIPTION:Dr. Stanton Heydinger, PGY2; Dr. Andrew Burks, PGY3; and Dr. J. Hunter Aultman, PGY4, will present during Ophthalmology Journal Club Monday, May 18, in LP104 at UMMC Lakeland Medical and online via Webex.Presentations include:Dr. Stanton Heydinger — "Investigation of Sickle Cell Retinopathy in Pediatric and Adolescent Patients Enrolled in a Large Cohort Study"Dr. Andrew Burks — "The Epidemiology of Sports-Related Orbital Fractures in the United States"Dr. J. Hunter Aultman — "Carbonic Anhydrase Inhibitors for Managing Uveitic Macular Edema: A Systematic Review and Meta-Analysis"
PRIORITY:3
END:VEVENT
END:VCALENDAR
