BEGIN:VCALENDAR
VERSION:2.0
PRODID:UMC.EDU
CALSCALE:GREGORIAN
METHOD:PUBLISH
BEGIN:VTIMEZONE
TZID:US/CENTRAL
BEGIN:STANDARD
TZOFFSETFROM:-0500
TZOFFSETTO:-0600
END:STANDARD
END:VTIMEZONE
BEGIN:VEVENT
DTSTART:20260512T121500
DTEND:20260512T124500
SUMMARY:Everyday Wellness Walking
LOCATION:School of Medicine Circle
DESCRIPTION:Join Everyday Wellness for a 20-minute walking event at 12:15 p.m. Tuesday, May 12, in the School of Medicine circle. Wear comfortable shoes and sunscreen. We look forward to seeing you soon!
PRIORITY:3
END:VEVENT
END:VCALENDAR
